BEGIN:VCALENDAR
VERSION:2.0
PRODID:-//BSC HighRoller Rosenheim e.V. - ECPv6.15.20//NONSGML v1.0//EN
CALSCALE:GREGORIAN
METHOD:PUBLISH
X-ORIGINAL-URL:https://bsc-highroller.de
X-WR-CALDESC:Veranstaltungen für BSC HighRoller Rosenheim e.V.
REFRESH-INTERVAL;VALUE=DURATION:PT1H
X-Robots-Tag:noindex
X-PUBLISHED-TTL:PT1H
BEGIN:VTIMEZONE
TZID:Europe/Berlin
BEGIN:DAYLIGHT
TZOFFSETFROM:+0100
TZOFFSETTO:+0200
TZNAME:CEST
DTSTART:20240331T010000
END:DAYLIGHT
BEGIN:STANDARD
TZOFFSETFROM:+0200
TZOFFSETTO:+0100
TZNAME:CET
DTSTART:20241027T010000
END:STANDARD
BEGIN:DAYLIGHT
TZOFFSETFROM:+0100
TZOFFSETTO:+0200
TZNAME:CEST
DTSTART:20250330T010000
END:DAYLIGHT
BEGIN:STANDARD
TZOFFSETFROM:+0200
TZOFFSETTO:+0100
TZNAME:CET
DTSTART:20251026T010000
END:STANDARD
BEGIN:DAYLIGHT
TZOFFSETFROM:+0100
TZOFFSETTO:+0200
TZNAME:CEST
DTSTART:20260329T010000
END:DAYLIGHT
BEGIN:STANDARD
TZOFFSETFROM:+0200
TZOFFSETTO:+0100
TZNAME:CET
DTSTART:20261025T010000
END:STANDARD
END:VTIMEZONE
BEGIN:VEVENT
DTSTART;TZID=Europe/Berlin:20250825T190000
DTEND;TZID=Europe/Berlin:20250825T220000
DTSTAMP:20260426T063502
CREATED:20250825T092848Z
LAST-MODIFIED:20250825T092848Z
UID:877-1756148400-1756159200@bsc-highroller.de
SUMMARY:BSC Highroller Rosenheim Jahreshauptversammlung
DESCRIPTION:
URL:https://bsc-highroller.de/event/bsc-highroller-rosenheim-jahreshauptversammlung/
LOCATION:In(n) Bowling Rosenheim\, Dr.-Steinbeißer-Straße 5\, Rosenheim\, Bayern\, 83026\, Germany
CATEGORIES:BSC Highroller Verein
END:VEVENT
END:VCALENDAR