BEGIN:VCALENDAR
VERSION:2.0
PRODID:-//BSC HighRoller Rosenheim e.V. - ECPv6.15.20//NONSGML v1.0//EN
CALSCALE:GREGORIAN
METHOD:PUBLISH
X-WR-CALNAME:BSC HighRoller Rosenheim e.V.
X-ORIGINAL-URL:https://bsc-highroller.de
X-WR-CALDESC:Veranstaltungen für BSC HighRoller Rosenheim e.V.
REFRESH-INTERVAL;VALUE=DURATION:PT1H
X-Robots-Tag:noindex
X-PUBLISHED-TTL:PT1H
BEGIN:VTIMEZONE
TZID:Europe/Berlin
BEGIN:DAYLIGHT
TZOFFSETFROM:+0100
TZOFFSETTO:+0200
TZNAME:CEST
DTSTART:20250330T010000
END:DAYLIGHT
BEGIN:STANDARD
TZOFFSETFROM:+0200
TZOFFSETTO:+0100
TZNAME:CET
DTSTART:20251026T010000
END:STANDARD
BEGIN:DAYLIGHT
TZOFFSETFROM:+0100
TZOFFSETTO:+0200
TZNAME:CEST
DTSTART:20260329T010000
END:DAYLIGHT
BEGIN:STANDARD
TZOFFSETFROM:+0200
TZOFFSETTO:+0100
TZNAME:CET
DTSTART:20261025T010000
END:STANDARD
BEGIN:DAYLIGHT
TZOFFSETFROM:+0100
TZOFFSETTO:+0200
TZNAME:CEST
DTSTART:20270328T010000
END:DAYLIGHT
BEGIN:STANDARD
TZOFFSETFROM:+0200
TZOFFSETTO:+0100
TZNAME:CET
DTSTART:20271031T010000
END:STANDARD
END:VTIMEZONE
BEGIN:VEVENT
DTSTART;VALUE=DATE:20260418
DTEND;VALUE=DATE:20260420
DTSTAMP:20260425T174218
CREATED:20250825T093117Z
LAST-MODIFIED:20250825T093117Z
UID:888-1776470400-1776643199@bsc-highroller.de
SUMMARY:Südbayrische Meisterschaften
DESCRIPTION:
URL:https://bsc-highroller.de/event/suedbayrische-meisterschaften/
LOCATION:Dream-Bowl Palace\, Apianstraße 9\, Unterföhring\, Bayern\, 85774\, Germany
CATEGORIES:Meisterschaften
END:VEVENT
END:VCALENDAR