BEGIN:VCALENDAR
VERSION:2.0
PRODID:-//BSC HighRoller Rosenheim e.V. - ECPv6.15.20//NONSGML v1.0//EN
CALSCALE:GREGORIAN
METHOD:PUBLISH
X-ORIGINAL-URL:https://bsc-highroller.de
X-WR-CALDESC:Veranstaltungen für BSC HighRoller Rosenheim e.V.
REFRESH-INTERVAL;VALUE=DURATION:PT1H
X-Robots-Tag:noindex
X-PUBLISHED-TTL:PT1H
BEGIN:VTIMEZONE
TZID:Europe/Berlin
BEGIN:DAYLIGHT
TZOFFSETFROM:+0100
TZOFFSETTO:+0200
TZNAME:CEST
DTSTART:20250330T010000
END:DAYLIGHT
BEGIN:STANDARD
TZOFFSETFROM:+0200
TZOFFSETTO:+0100
TZNAME:CET
DTSTART:20251026T010000
END:STANDARD
BEGIN:DAYLIGHT
TZOFFSETFROM:+0100
TZOFFSETTO:+0200
TZNAME:CEST
DTSTART:20260329T010000
END:DAYLIGHT
BEGIN:STANDARD
TZOFFSETFROM:+0200
TZOFFSETTO:+0100
TZNAME:CET
DTSTART:20261025T010000
END:STANDARD
BEGIN:DAYLIGHT
TZOFFSETFROM:+0100
TZOFFSETTO:+0200
TZNAME:CEST
DTSTART:20270328T010000
END:DAYLIGHT
BEGIN:STANDARD
TZOFFSETFROM:+0200
TZOFFSETTO:+0100
TZNAME:CET
DTSTART:20271031T010000
END:STANDARD
END:VTIMEZONE
BEGIN:VEVENT
DTSTART;VALUE=DATE:20260228
DTEND;VALUE=DATE:20260302
DTSTAMP:20260425T174421
CREATED:20250825T092333Z
LAST-MODIFIED:20250825T092333Z
UID:872-1772236800-1772409599@bsc-highroller.de
SUMMARY:Bayernliga Damen Spieltag 5
DESCRIPTION:
URL:https://bsc-highroller.de/event/bayernliga-damen-spieltag-5/
LOCATION:Regensburg Super Bowl\, Im Gewerbepark D 44\, Regensburg\, Bayern\, 93059\, Germany
CATEGORIES:BSC HighRoller Damen 1
END:VEVENT
BEGIN:VEVENT
DTSTART;VALUE=DATE:20260301
DTEND;VALUE=DATE:20260302
DTSTAMP:20260425T174421
CREATED:20250825T082726Z
LAST-MODIFIED:20250825T082726Z
UID:780-1772323200-1772409599@bsc-highroller.de
SUMMARY:Landesliga Süd Frauen Spieltag 4
DESCRIPTION:
URL:https://bsc-highroller.de/event/landesliga-sued-frauen-spieltag-4/
LOCATION:Max Munich Bowling\, Zusestraße 5\, Brunnthal\, Bayern\, 85649\, Germany
CATEGORIES:BSC Highroller Damen 2
END:VEVENT
BEGIN:VEVENT
DTSTART;VALUE=DATE:20260301
DTEND;VALUE=DATE:20260302
DTSTAMP:20260425T174421
CREATED:20250825T091019Z
LAST-MODIFIED:20250825T091019Z
UID:806-1772323200-1772409599@bsc-highroller.de
SUMMARY:BOL Süd 1 Spieltag 4
DESCRIPTION:
URL:https://bsc-highroller.de/event/bol-sued-1-spieltag-4/
LOCATION:Dream-Bowl Palace\, Apianstraße 9\, Unterföhring\, Bayern\, 85774\, Germany
CATEGORIES:BSC Highroller Herren 2
END:VEVENT
BEGIN:VEVENT
DTSTART;VALUE=DATE:20260301
DTEND;VALUE=DATE:20260302
DTSTAMP:20260425T174421
CREATED:20250825T091531Z
LAST-MODIFIED:20250825T091531Z
UID:831-1772323200-1772409599@bsc-highroller.de
SUMMARY:BL Süd 3 Spieltag 4
DESCRIPTION:
URL:https://bsc-highroller.de/event/bl-sued-3-spieltag-4/
LOCATION:Max Munich Bowling\, Zusestraße 5\, Brunnthal\, Bayern\, 85649\, Germany
CATEGORIES:BSC Highroller Herren 3
END:VEVENT
BEGIN:VEVENT
DTSTART;VALUE=DATE:20260301
DTEND;VALUE=DATE:20260302
DTSTAMP:20260425T174421
CREATED:20250825T091745Z
LAST-MODIFIED:20250825T091745Z
UID:844-1772323200-1772409599@bsc-highroller.de
SUMMARY:Kreisliga Süd 3 Spieltag 4
DESCRIPTION:
URL:https://bsc-highroller.de/event/kreisliga-sued-3-spieltag-4/
LOCATION:Dream-Bowl Palace\, Apianstraße 9\, Unterföhring\, Bayern\, 85774\, Germany
CATEGORIES:BSC Highroller Herren 5
END:VEVENT
BEGIN:VEVENT
DTSTART;VALUE=DATE:20260307
DTEND;VALUE=DATE:20260309
DTSTAMP:20260425T174421
CREATED:20250825T093020Z
LAST-MODIFIED:20250825T093020Z
UID:884-1772841600-1773014399@bsc-highroller.de
SUMMARY:Meisterschaft (TBA)
DESCRIPTION:
URL:https://bsc-highroller.de/event/meisterschaft-tba/
CATEGORIES:Meisterschaften
END:VEVENT
BEGIN:VEVENT
DTSTART;VALUE=DATE:20260322
DTEND;VALUE=DATE:20260323
DTSTAMP:20260425T174421
CREATED:20250825T083053Z
LAST-MODIFIED:20250825T083053Z
UID:794-1774137600-1774223999@bsc-highroller.de
SUMMARY:Landesliga Süd Männer Spieltag 4
DESCRIPTION:
URL:https://bsc-highroller.de/event/landesliga-sued-maenner-spieltag-4/
LOCATION:BigBowl Kempten\, Oberwanger Str. 43\, Kempten (Allgäu)\, Bayern\, 87439\, Germany
CATEGORIES:BSC Highroller Herren 1
END:VEVENT
BEGIN:VEVENT
DTSTART;VALUE=DATE:20260328
DTEND;VALUE=DATE:20260330
DTSTAMP:20260425T174421
CREATED:20250825T093045Z
LAST-MODIFIED:20250825T093045Z
UID:886-1774656000-1774828799@bsc-highroller.de
SUMMARY:Meisterschaft (TBA)
DESCRIPTION:
URL:https://bsc-highroller.de/event/meisterschaft-tba-2/
CATEGORIES:Meisterschaften
END:VEVENT
END:VCALENDAR